BEGIN:VCALENDAR
VERSION:2.0
PRODID:-//Glorious Women of Wonders - ECPv6.15.20//NONSGML v1.0//EN
CALSCALE:GREGORIAN
METHOD:PUBLISH
X-WR-CALNAME:Glorious Women of Wonders
X-ORIGINAL-URL:https://gloriouswomenofwonders.org
X-WR-CALDESC:Events for Glorious Women of Wonders
REFRESH-INTERVAL;VALUE=DURATION:PT1H
X-Robots-Tag:noindex
X-PUBLISHED-TTL:PT1H
BEGIN:VTIMEZONE
TZID:UTC
BEGIN:STANDARD
TZOFFSETFROM:+0000
TZOFFSETTO:+0000
TZNAME:UTC
DTSTART:20260101T000000
END:STANDARD
END:VTIMEZONE
BEGIN:VEVENT
DTSTART;TZID=UTC:20271102T080000
DTEND;TZID=UTC:20271102T170000
DTSTAMP:20260423T062855
CREATED:20250104T020500Z
LAST-MODIFIED:20251213T212815Z
UID:39570-1825142400-1825174800@gloriouswomenofwonders.org
SUMMARY:Weekly Prayer Gathering
DESCRIPTION:Join us every Wednesday from 7:00 – 8:00 PM for our weekly prayer group. This is a dedicated time to pray together\, share encouragement\, and seek God’s presence as a community. Whether you are new to prayer or have been praying for years\, everyone is welcome. \nCome with your prayer requests\, your thanksgiving\, and an open heart as we grow in faith together. \nJoin via Zoom:Use the Zoom link below to connect and pray with us weekly. \n(Its a weekly program\, add a calender that shows to join every wednesday 7-8pm toronto time
URL:https://gloriouswomenofwonders.org/event/weekly-bible-study-group/
LOCATION:Find GWOW\, 15 Regan Rd #13\, Brampton\, Ontario\, L7A 1E3\, Canada
CATEGORIES:Study Group
ATTACH;FMTTYPE=image/png:https://gloriouswomenofwonders.org/wp-content/uploads/2025/01/Untitled-design-2.png
ORGANIZER;CN="Blessing Ajayi":MAILTO:blessbcctv@gmail.com
END:VEVENT
BEGIN:VEVENT
DTSTART;TZID=UTC:20271105T080000
DTEND;TZID=UTC:20271105T170000
DTSTAMP:20260423T062855
CREATED:20250106T020512Z
LAST-MODIFIED:20251213T213619Z
UID:39572-1825401600-1825434000@gloriouswomenofwonders.org
SUMMARY:Young Adults Connect
DESCRIPTION:Young Adults Connect is a gathering created for young adults to build real connections\, grow spiritually\, and support one another through prayer and fellowship. This event provides a relaxed and welcoming space to share life experiences\, ask honest questions\, and strengthen your faith. \nJoin us for a meaningful time of group prayer\, open discussion\, encouragement\, and community bonding. Whether you are seeking spiritual growth\, friendship\, or a place to feel supported\, this event is for you. \nCome as you are and be part of a growing community of young adults walking together in faith.
URL:https://gloriouswomenofwonders.org/event/young-adults-connect/
LOCATION:Find GWOW\, 15 Regan Rd #13\, Brampton\, Ontario\, L7A 1E3\, Canada
CATEGORIES:Mission Fair
ATTACH;FMTTYPE=image/png:https://gloriouswomenofwonders.org/wp-content/uploads/2025/01/Untitled-design-3.png
ORGANIZER;CN="Blessing Ajayi":MAILTO:blessbcctv@gmail.com
END:VEVENT
BEGIN:VEVENT
DTSTART;TZID=UTC:20271119T080000
DTEND;TZID=UTC:20271119T170000
DTSTAMP:20260423T062855
CREATED:20250115T020545Z
LAST-MODIFIED:20251213T213946Z
UID:39578-1826611200-1826643600@gloriouswomenofwonders.org
SUMMARY:Annual Community Gala – Celebrating Special Days & Cultural Milestones
DESCRIPTION:Our Annual Community Gala is a signature event dedicated to celebrating special days and meaningful cultural moments that bring people together. This elegant and uplifting gathering honours occasions such as Canada Day\, Black History Month\, and other significant commemorative events that reflect our shared values\, heritage\, and diversity. \nThe Gala creates a space where culture\, community\, and celebration meet. Guests will enjoy an evening of inspiring presentations\, cultural showcases\, music\, and opportunities to connect with community leaders\, families\, and partners. Each edition of the Gala highlights the history\, contributions\, and stories that shape our communities\, while also looking ahead to a future built on unity\, inclusion\, and mutual respect. \nBeyond celebration\, the event serves as a platform for reflection\, education\, and appreciation. It recognizes excellence\, resilience\, and the impact of individuals and organizations who continue to make a difference. Through storytelling\, performances\, and shared experiences\, attendees are reminded of the importance of honouring the past while celebrating progress. \nWhether marking a national celebration like Canada Day or honouring heritage months such as Black History Month\, the Community Gala is more than an event. These are moments to come together\, celebrate diversity\, and strengthen community bonds. \nJoin us for an unforgettable evening of culture\, connection\, and celebration.
URL:https://gloriouswomenofwonders.org/event/navigating-gods-truth-and-the-messy-church/
LOCATION:Find GWOW\, 15 Regan Rd #13\, Brampton\, Ontario\, L7A 1E3\, Canada
CATEGORIES:Mission Fair
ATTACH;FMTTYPE=image/png:https://gloriouswomenofwonders.org/wp-content/uploads/2025/01/wowww.png
ORGANIZER;CN="Blessing Ajayi":MAILTO:blessbcctv@gmail.com
END:VEVENT
END:VCALENDAR